BEGIN:VCALENDAR
VERSION:2.0
PRODID:-//fishbonesusa - ECPv6.13.2.1//NONSGML v1.0//EN
CALSCALE:GREGORIAN
METHOD:PUBLISH
X-WR-CALNAME:fishbonesusa
X-ORIGINAL-URL:https://fishbonesusa.com
X-WR-CALDESC:Events for fishbonesusa
REFRESH-INTERVAL;VALUE=DURATION:PT1H
X-Robots-Tag:noindex
X-PUBLISHED-TTL:PT1H
BEGIN:VTIMEZONE
TZID:America/Detroit
BEGIN:DAYLIGHT
TZOFFSETFROM:-0500
TZOFFSETTO:-0400
TZNAME:EDT
DTSTART:20210314T070000
END:DAYLIGHT
BEGIN:STANDARD
TZOFFSETFROM:-0400
TZOFFSETTO:-0500
TZNAME:EST
DTSTART:20211107T060000
END:STANDARD
END:VTIMEZONE
BEGIN:VEVENT
DTSTART;TZID=America/Detroit:20210717T193000
DTEND;TZID=America/Detroit:20210717T223000
DTSTAMP:20260421T204655
CREATED:20210628T171343Z
LAST-MODIFIED:20210628T171343Z
UID:490-1626550200-1626561000@fishbonesusa.com
SUMMARY:Caravan Gypsy
DESCRIPTION:
URL:https://fishbonesusa.com/rhythm/gypsy-caravan/
LOCATION:FISHBONES WEST\, 29244 Northwestern Hwy\, Southfield\, MI\, 48034\, United States
CATEGORIES:RHYTHM
ATTACH;FMTTYPE=image/jpeg:https://fishbonesusa.com/wp-content/uploads/2021/06/Caravan-Gypsy.jpg
END:VEVENT
BEGIN:VEVENT
DTSTART;TZID=America/Detroit:20210710T193000
DTEND;TZID=America/Detroit:20210710T223000
DTSTAMP:20260421T204655
CREATED:20210706T155849Z
LAST-MODIFIED:20210706T155849Z
UID:500-1625945400-1625956200@fishbonesusa.com
SUMMARY:Bob Schneeweis Trio w/ Tiffany Gridiron
DESCRIPTION:Bob Schneeweis\, originally from the Twin Cities\, MN\, has been an active pianist\, composer/arranger\, and teacher for the past two decades.  Prior to moving to Detroit in 2009\, Bob worked foremost as pianist\, composer/arranger\, and music director for the popular Minneapolis-based Latin orchestra Salsabrosa\, as well as writing for and performing with the much-lauded Atlantis Quartet (then Quintet). He also collaborated with a wide array of other groups\, from hip hop and electronic music\, to free improvisation and experimental music.  In the Detroit area\, Bob continues to be active as a jazz pianist\, composer\, and teacher\, as well as a composer and performer of classical/new music. \nIn October 2017\, Bob served as a performer\, composer\, and lead organizer for the powerful Bicentenary of the Birth of Baha’u’llah event at the Strand Theater in Pontiac\, MI.  Here\, he coordinated a broad array of regional and national groups across many cultures and artistic traditions – including chamber and gospel choir\, classical Indian dance\, folk\, Native American\, and jazz music\, as well as original theatrical monologues threading the program together.  The process of organizing the program was fundamentally collaborative\, seeking to engage the wider community in many aspects of the planning process\, and involved the commission of 7 new works of music and dance (including one by Schneeweis)\, as well as a series of original theatrical interludes\, all based on principles related to the oneness of humankind. \nFrom 2017-2018\, Bob contributed to the Soul Food series of concerts aimed at celebrating the true purpose of music as a means to empower and unite people.  At these concerts – as well as at the Bicentenary of the Birth of Baha’u’llah – he performed original compositions and arrangements of his with a powerful all-star group including such great local players as Gayelynn McKinney\, Marion Hayden\, Pat Prouty\, Miles Brown\, Mark Stone\, and Matt Dufresene.  From this series was also born The Universal\, which continues to perform in the Detroit Metro area. \nIn 2017\, Bob was a winner of the Oakland Symphony Orchestra Concerto Competition\, performing the first movement of Ravel’s Piano Concerto in G.  He holds a Masters Degree from Oakland University in piano performance\, and maintains his own private piano studio\, teaching both jazz and classical piano performance\, as well as composition\, improvisation\, and theory.
URL:https://fishbonesusa.com/rhythm/bob-schneeweis-trio-w-tiffany-gridiron/
LOCATION:FISHBONES WEST\, 29244 Northwestern Hwy\, Southfield\, MI\, 48034\, United States
CATEGORIES:RHYTHM
ATTACH;FMTTYPE=image/jpeg:https://fishbonesusa.com/wp-content/uploads/2021/05/bob-s.jpg
END:VEVENT
BEGIN:VEVENT
DTSTART;TZID=America/Detroit:20210708T193000
DTEND;TZID=America/Detroit:20210708T223000
DTSTAMP:20260421T204655
CREATED:20210427T142026Z
LAST-MODIFIED:20210628T170550Z
UID:407-1625772600-1625783400@fishbonesusa.com
SUMMARY:Chris Plansker trio w: Ardis Grace
DESCRIPTION:
URL:https://fishbonesusa.com/rhythm/chris-plansker-trio-w-ardis-grace-4/
LOCATION:FISHBONES EAST\, 23722 Jefferson Ave\, St Clair Shores\, MI\, 48080\, United States
CATEGORIES:RHYTHM
ATTACH;FMTTYPE=image/jpeg:https://fishbonesusa.com/wp-content/uploads/2021/03/Ardis-Grace.jpg
END:VEVENT
BEGIN:VEVENT
DTSTART;TZID=America/Detroit:20210626T193000
DTEND;TZID=America/Detroit:20210626T223000
DTSTAMP:20260421T204655
CREATED:20210608T150420Z
LAST-MODIFIED:20210608T150504Z
UID:434-1624735800-1624746600@fishbonesusa.com
SUMMARY:Sandra Bomar
DESCRIPTION:
URL:https://fishbonesusa.com/rhythm/sandra-bomar/
LOCATION:FISHBONES EAST\, 23722 Jefferson Ave\, St Clair Shores\, MI\, 48080\, United States
CATEGORIES:RHYTHM
ATTACH;FMTTYPE=image/jpeg:https://fishbonesusa.com/wp-content/uploads/2021/06/Sandra-Bomar.jpg
END:VEVENT
BEGIN:VEVENT
DTSTART;TZID=America/Detroit:20210527T193000
DTEND;TZID=America/Detroit:20210527T223000
DTSTAMP:20260421T204655
CREATED:20210427T141913Z
LAST-MODIFIED:20210427T141913Z
UID:405-1622143800-1622154600@fishbonesusa.com
SUMMARY:Djangophonique w: Leila Shaye
DESCRIPTION:
URL:https://fishbonesusa.com/rhythm/djangophonique-w-leila-shaye-2/
LOCATION:FISHBONES EAST\, 23722 Jefferson Ave\, St Clair Shores\, MI\, 48080\, United States
CATEGORIES:RHYTHM
ATTACH;FMTTYPE=image/jpeg:https://fishbonesusa.com/wp-content/uploads/2021/03/Django_Layla.jpg
END:VEVENT
BEGIN:VEVENT
DTSTART;TZID=America/Detroit:20210515T193000
DTEND;TZID=America/Detroit:20210515T223000
DTSTAMP:20260421T204655
CREATED:20210311T200156Z
LAST-MODIFIED:20210427T141435Z
UID:341-1621107000-1621117800@fishbonesusa.com
SUMMARY:Djangophonique w: Leila Shaye
DESCRIPTION:
URL:https://fishbonesusa.com/rhythm/djangophonique-leila-shaye/
LOCATION:FISHBONES WEST\, 29244 Northwestern Hwy\, Southfield\, MI\, 48034\, United States
CATEGORIES:RHYTHM
ATTACH;FMTTYPE=image/jpeg:https://fishbonesusa.com/wp-content/uploads/2021/03/Django_Layla.jpg
END:VEVENT
BEGIN:VEVENT
DTSTART;TZID=America/Detroit:20210513T193000
DTEND;TZID=America/Detroit:20210513T223000
DTSTAMP:20260421T204655
CREATED:20210325T141407Z
LAST-MODIFIED:20210427T141358Z
UID:368-1620934200-1620945000@fishbonesusa.com
SUMMARY:Djangophonique w: Leila Shaye
DESCRIPTION:
URL:https://fishbonesusa.com/rhythm/djangophonique-w-leila-shaye/
LOCATION:FISHBONES EAST\, 23722 Jefferson Ave\, St Clair Shores\, MI\, 48080\, United States
CATEGORIES:RHYTHM
ATTACH;FMTTYPE=image/jpeg:https://fishbonesusa.com/wp-content/uploads/2021/03/Django_Layla.jpg
END:VEVENT
BEGIN:VEVENT
DTSTART;TZID=America/Detroit:20210501T193000
DTEND;TZID=America/Detroit:20210501T223000
DTSTAMP:20260421T204655
CREATED:20210325T135736Z
LAST-MODIFIED:20210427T141058Z
UID:354-1619897400-1619908200@fishbonesusa.com
SUMMARY:Brett Lucas
DESCRIPTION:
URL:https://fishbonesusa.com/rhythm/brett-lucas/
LOCATION:FISHBONES EAST\, 23722 Jefferson Ave\, St Clair Shores\, MI\, 48080\, United States
CATEGORIES:RHYTHM
ATTACH;FMTTYPE=image/jpeg:https://fishbonesusa.com/wp-content/uploads/2021/03/brett-lucas.jpg
END:VEVENT
BEGIN:VEVENT
DTSTART;TZID=America/Detroit:20210415T190000
DTEND;TZID=America/Detroit:20210415T213000
DTSTAMP:20260421T204655
CREATED:20210310T143130Z
LAST-MODIFIED:20210325T140145Z
UID:313-1618513200-1618522200@fishbonesusa.com
SUMMARY:Carmen Miller
DESCRIPTION:
URL:https://fishbonesusa.com/rhythm/carmen-miller-2/
LOCATION:FISHBONES EAST\, 23722 Jefferson Ave\, St Clair Shores\, MI\, 48080\, United States
CATEGORIES:RHYTHM
ATTACH;FMTTYPE=image/jpeg:https://fishbonesusa.com/wp-content/uploads/2021/03/carmen-miller_1.jpg
END:VEVENT
BEGIN:VEVENT
DTSTART;TZID=America/Detroit:20210325T190000
DTEND;TZID=America/Detroit:20210325T213000
DTSTAMP:20260421T204655
CREATED:20210310T141721Z
LAST-MODIFIED:20210325T135501Z
UID:298-1616698800-1616707800@fishbonesusa.com
SUMMARY:Chris Plansker trio w: Ardis Grace
DESCRIPTION:
URL:https://fishbonesusa.com/rhythm/chris-plansker-trio-w-ardis-grace/
LOCATION:FISHBONES EAST\, 23722 Jefferson Ave\, St Clair Shores\, MI\, 48080\, United States
CATEGORIES:RHYTHM
ATTACH;FMTTYPE=image/jpeg:https://fishbonesusa.com/wp-content/uploads/2021/03/Ardis-Grace.jpg
END:VEVENT
END:VCALENDAR