BEGIN:VCALENDAR
VERSION:2.0
PRODID:-//fishbonesusa - ECPv6.13.2.1//NONSGML v1.0//EN
CALSCALE:GREGORIAN
METHOD:PUBLISH
X-WR-CALNAME:fishbonesusa
X-ORIGINAL-URL:https://fishbonesusa.com
X-WR-CALDESC:Events for fishbonesusa
REFRESH-INTERVAL;VALUE=DURATION:PT1H
X-Robots-Tag:noindex
X-PUBLISHED-TTL:PT1H
BEGIN:VTIMEZONE
TZID:America/Detroit
BEGIN:DAYLIGHT
TZOFFSETFROM:-0500
TZOFFSETTO:-0400
TZNAME:EDT
DTSTART:20220313T070000
END:DAYLIGHT
BEGIN:STANDARD
TZOFFSETFROM:-0400
TZOFFSETTO:-0500
TZNAME:EST
DTSTART:20221106T060000
END:STANDARD
BEGIN:DAYLIGHT
TZOFFSETFROM:-0500
TZOFFSETTO:-0400
TZNAME:EDT
DTSTART:20230312T070000
END:DAYLIGHT
BEGIN:STANDARD
TZOFFSETFROM:-0400
TZOFFSETTO:-0500
TZNAME:EST
DTSTART:20231105T060000
END:STANDARD
END:VTIMEZONE
BEGIN:VEVENT
DTSTART;TZID=America/Detroit:20231201T190000
DTEND;TZID=America/Detroit:20231201T230000
DTSTAMP:20260421T100212
CREATED:20220113T151908Z
LAST-MODIFIED:20231211T144859Z
UID:638-1701457200-1701471600@fishbonesusa.com
SUMMARY:Allen Dennard
DESCRIPTION:Allen has made three appearances as a sideman in the Detroit Jazz Festival\, one being with the great saxophonist Wendell Harrison (2015)\, one being with Detroit bassist Ali Bey (2017)\, and lastly with the Detroit Jazz Festival All-Star Alumini Band (2019). In January 2019 Allen was chosen by the Detroit MetroTimes as one of ten artist they thought would become famous in that year. Soon after that Allen was approached with many interview requests\, one being with Detroit Public Television/ PBS and the other being with Honeysuckle Magazine\, a New York City based magazine company. Aside from that Allen has worked with several artist from the Detroit Music Factory label\, such as Gayelynn Mckinney\, De’Sean Jones and Sean Dobbins. He has also worked with Detroit saxophonist David McMurray from the Blue Note record label. Adding to that\, Allen also got the opportunity to share the stage with New York based saxophonist J.D Allen\, who is with HighNote Records.
URL:https://fishbonesusa.com/rhythm/allendennard/
LOCATION:FISHBONES GREEKTOWN\, 400 Monroe St.\, Detroit\, MI\, 48226\, United States
CATEGORIES:RHYTHM
ATTACH;FMTTYPE=image/jpeg:https://fishbonesusa.com/wp-content/uploads/2022/01/allendennard.jpg
END:VEVENT
BEGIN:VEVENT
DTSTART;TZID=America/Detroit:20231111T190000
DTEND;TZID=America/Detroit:20231111T230000
DTSTAMP:20260421T100212
CREATED:20230726T175004Z
LAST-MODIFIED:20231030T201417Z
UID:1441-1699729200-1699743600@fishbonesusa.com
SUMMARY:Melody Balos Trio
DESCRIPTION:The Balos Duo is an up-and-coming brother/sister act consisting of Melody and Matt Balos. They have been performing together since they were young\, starting out with ensembles such as the Manny Balos Big Band\, and they bring a mix of jazz and contemporary repertoire to the stage. Melody won the Detroit Jazz Festival Youth Vocalist Competition in 2017\, and has performed at the festival for several years\, along with her brother.
URL:https://fishbonesusa.com/rhythm/melody-balos-trio/
LOCATION:FISHBONES GREEKTOWN\, 400 Monroe St.\, Detroit\, MI\, 48226\, United States
CATEGORIES:RHYTHM
ATTACH;FMTTYPE=image/jpeg:https://fishbonesusa.com/wp-content/uploads/2023/06/Balos-duo.jpg
END:VEVENT
BEGIN:VEVENT
DTSTART;TZID=America/Detroit:20231104T190000
DTEND;TZID=America/Detroit:20231104T230000
DTSTAMP:20260421T100212
CREATED:20210325T141226Z
LAST-MODIFIED:20231103T232712Z
UID:364-1699124400-1699138800@fishbonesusa.com
SUMMARY:Liz Smith Trio
DESCRIPTION:
URL:https://fishbonesusa.com/rhythm/liz-smith-trio/
LOCATION:FISHBONES GREEKTOWN\, 400 Monroe St.\, Detroit\, MI\, 48226\, United States
CATEGORIES:RHYTHM
ATTACH;FMTTYPE=image/jpeg:https://fishbonesusa.com/wp-content/uploads/2021/03/liz-Smith.jpg
END:VEVENT
BEGIN:VEVENT
DTSTART;TZID=America/Detroit:20231103T170000
DTEND;TZID=America/Detroit:20231103T210000
DTSTAMP:20260421T100212
CREATED:20230726T175916Z
LAST-MODIFIED:20231030T200453Z
UID:1446-1699030800-1699045200@fishbonesusa.com
SUMMARY:Allen Dennard
DESCRIPTION:Allen has made three appearances as a sideman in the Detroit Jazz Festival\, one being with the great saxophonist Wendell Harrison (2015)\, one being with Detroit bassist Ali Bey (2017)\, and lastly with the Detroit Jazz Festival All-Star Alumini Band (2019). In January 2019 Allen was chosen by the Detroit MetroTimes as one of ten artist they thought would become famous in that year. Soon after that Allen was approached with many interview requests\, one being with Detroit Public Television/ PBS and the other being with Honeysuckle Magazine\, a New York City based magazine company. Aside from that Allen has worked with several artist from the Detroit Music Factory label\, such as Gayelynn Mckinney\, De’Sean Jones and Sean Dobbins. He has also worked with Detroit saxophonist David McMurray from the Blue Note record label. Adding to that\, Allen also got the opportunity to share the stage with New York based saxophonist J.D Allen\, who is with HighNote Records.
URL:https://fishbonesusa.com/rhythm/allen-dennard/
LOCATION:FISHBONES GREEKTOWN\, 400 Monroe St.\, Detroit\, MI\, 48226\, United States
CATEGORIES:RHYTHM
ATTACH;FMTTYPE=image/jpeg:https://fishbonesusa.com/wp-content/uploads/2022/01/allendennard.jpg
END:VEVENT
BEGIN:VEVENT
DTSTART;TZID=America/Detroit:20231021T190000
DTEND;TZID=America/Detroit:20231021T230000
DTSTAMP:20260421T100212
CREATED:20220425T175539Z
LAST-MODIFIED:20231013T183531Z
UID:1127-1697914800-1697929200@fishbonesusa.com
SUMMARY:Paul King Trio
DESCRIPTION:Influenced heavily by the great jazz\, swing and soul crooners\, Paul King has created a classic sound of his own. Known for his smooth tone and sophisticated style\, Paul and his band have a gift for making your evening special. His interesting song choices and wonderful vocal phrasing have been making dancers\, jazz heads and casual listeners happy for decades.
URL:https://fishbonesusa.com/rhythm/paul-king-2/
LOCATION:FISHBONES EAST\, 23722 Jefferson Ave\, St Clair Shores\, MI\, 48080\, United States
CATEGORIES:RHYTHM
ATTACH;FMTTYPE=image/jpeg:https://fishbonesusa.com/wp-content/uploads/2021/07/paul-king.jpg
END:VEVENT
BEGIN:VEVENT
DTSTART;TZID=America/Detroit:20231013T173000
DTEND;TZID=America/Detroit:20231013T213000
DTSTAMP:20260421T100212
CREATED:20231013T174301Z
LAST-MODIFIED:20231013T183134Z
UID:1498-1697218200-1697232600@fishbonesusa.com
SUMMARY:Paul Keller Trio with Chelsea Packard
DESCRIPTION:Chelsea Packard is an assistant professor of musical theatre\, specializing in private voice instruction. Packard appeared in Kristin Chenoweth’s PBS Live recording of her concert Home\, in which she and Chenoweth duetted on the song “Enough Is Enough.” She sings with the GRAMMY-nominated gospel choir Broadway Inspirational Voices.  She was heard on the NBC series Smash any time there was an ensemble of singers. Packard was the original “Woman 2” in Pasek and Paul’s Edges\, and can be heard on that cast recording as well. \nAs a teacher and clinician\, Packard has worked with the following organizations: Joffrey Ballet\, Broadway Classroom\, Broadway Workshop\, A Class Act NY\, Brave Arts\, Broadway for All\, Broadway Teaching Group\, and Broadway In South Africa. Her private voice studio in New York is an offshoot of her mentor’s\, the Tony Award-winning Joan Lader.
URL:https://fishbonesusa.com/rhythm/paul-keller-trio-with-chelsea-packard/
LOCATION:FISHBONES GREEKTOWN\, 400 Monroe St.\, Detroit\, MI\, 48226\, United States
CATEGORIES:RHYTHM
ATTACH;FMTTYPE=image/jpeg:https://fishbonesusa.com/wp-content/uploads/2023/10/chelsae-packard.jpg
END:VEVENT
BEGIN:VEVENT
DTSTART;TZID=America/Detroit:20230910T103000
DTEND;TZID=America/Detroit:20230910T140000
DTSTAMP:20260421T100212
CREATED:20210528T200040Z
LAST-MODIFIED:20230907T140022Z
UID:425-1694341800-1694354400@fishbonesusa.com
SUMMARY:Bob Schneeweis Duo
DESCRIPTION:Bob Schneeweis and Tiffany Gridiron \nOriginally from the Twin Cities\, MN\, Bob has been active in a wide variety of musical worlds – from his time with the highly popular Minneapolis-based Latin orchestra Salsabrosa and as a co-founding member of the pioneering modern jazz group Atlantis Quartet (then Quintet)\, through a wide array of other projects\, from hip hop to free improvisation.  In the Detroit area\, he is a highly active jazz pianist\, composer\, and teacher\, as well as a composer and performer of classical/new music.  He can be seen regularly at the Caucus Club\, solo as well as with Tiffany Gridiron\, in addition to his many other projects as a leader and sideman. \nVocalist Tiffany Gridiron learned to sing in the black gospel traditions of her family church.  Since that time\, her sultry vocals and playful approach have excited audiences in the United States\, Japan\, Finland and South Korea. Her foundational jazz influences are three of the greatest jazz singers of all time: Billie Holiday\, Ella Fitzgerald and Sarah Vaughan\, and her contemporary influences are Diane Reeves and Jill Scott. She has recorded 5 CDs released by Sony Records in Japan that have featured such greats as pianist Hank Jones\, drummer Omar Hakim\, and many others.
URL:https://fishbonesusa.com/rhythm/bob-s/
LOCATION:FISHBONES GREEKTOWN\, 400 Monroe St.\, Detroit\, MI\, 48226\, United States
CATEGORIES:RHYTHM
ATTACH;FMTTYPE=image/jpeg:https://fishbonesusa.com/wp-content/uploads/2021/05/bob-n-tiff.jpg
END:VEVENT
BEGIN:VEVENT
DTSTART;TZID=America/Detroit:20230831T183000
DTEND;TZID=America/Detroit:20230831T213000
DTSTAMP:20260421T100212
CREATED:20230726T181846Z
LAST-MODIFIED:20230726T181846Z
UID:1449-1693506600-1693517400@fishbonesusa.com
SUMMARY:Melody Balos Trio
DESCRIPTION:The Balos Duo is an up-and-coming brother/sister act consisting of Melody and Matt Balos. They have been performing together since they were young\, starting out with ensembles such as the Manny Balos Big Band\, and they bring a mix of jazz and contemporary repertoire to the stage. Melody won the Detroit Jazz Festival Youth Vocalist Competition in 2017\, and has performed at the festival for several years\, along with her brother.
URL:https://fishbonesusa.com/rhythm/melody-balos-trio-2/
LOCATION:FISHBONES GREEKTOWN\, 400 Monroe St.\, Detroit\, MI\, 48226\, United States
CATEGORIES:RHYTHM
ATTACH;FMTTYPE=image/jpeg:https://fishbonesusa.com/wp-content/uploads/2023/06/Balos-duo.jpg
END:VEVENT
BEGIN:VEVENT
DTSTART;TZID=America/Detroit:20230801T190000
DTEND;TZID=America/Detroit:20230802T230000
DTSTAMP:20260421T100212
CREATED:20230630T185825Z
LAST-MODIFIED:20230822T133413Z
UID:1430-1690916400-1691017200@fishbonesusa.com
SUMMARY:Cynthia Davis and her Motor City Sensations
DESCRIPTION:Detroit’s Premiere R&B\, FUNK\, Top 40\, 80S\, Urban and Motown Classics
URL:https://fishbonesusa.com/rhythm/cynthia-davis-trio/
LOCATION:FISHBONES GREEKTOWN\, 400 Monroe St.\, Detroit\, MI\, 48226\, United States
CATEGORIES:RHYTHM
ATTACH;FMTTYPE=image/jpeg:https://fishbonesusa.com/wp-content/uploads/2023/06/cynthia-davis.jpg
END:VEVENT
BEGIN:VEVENT
DTSTART;TZID=America/Detroit:20230727T183000
DTEND;TZID=America/Detroit:20230727T213000
DTSTAMP:20260421T100212
CREATED:20210628T172243Z
LAST-MODIFIED:20230707T225059Z
UID:493-1690482600-1690493400@fishbonesusa.com
SUMMARY:Sarah Price Trio
DESCRIPTION:Experiences as a back-up vocalist and guest appearing with established Michigan funk and rock bands led her to take her place center stage as a solo artist. Sarah sings regularly with her jazz trio in the metro Detroit area.
URL:https://fishbonesusa.com/rhythm/sarah-price/
LOCATION:FISHBONES EAST\, 23722 Jefferson Ave\, St Clair Shores\, MI\, 48080\, United States
CATEGORIES:RHYTHM
ATTACH;FMTTYPE=image/jpeg:https://fishbonesusa.com/wp-content/uploads/2021/06/Sarah-price.jpg
END:VEVENT
BEGIN:VEVENT
DTSTART;TZID=America/Detroit:20230715T190000
DTEND;TZID=America/Detroit:20230715T230000
DTSTAMP:20260421T100212
CREATED:20230630T173919Z
LAST-MODIFIED:20230710T180103Z
UID:1424-1689447600-1689462000@fishbonesusa.com
SUMMARY:Sarah Price Trio
DESCRIPTION:Experiences as a back-up vocalist and guest appearing with established Michigan funk and rock bands led her to take her place center stage as a solo artist. Sarah sings regularly with her jazz trio in the metro Detroit area.
URL:https://fishbonesusa.com/rhythm/sarah-price-trio/
LOCATION:FISHBONES GREEKTOWN\, 400 Monroe St.\, Detroit\, MI\, 48226\, United States
CATEGORIES:RHYTHM
ATTACH;FMTTYPE=image/jpeg:https://fishbonesusa.com/wp-content/uploads/2021/06/Sarah-price.jpg
END:VEVENT
BEGIN:VEVENT
DTSTART;TZID=America/Detroit:20230713T183000
DTEND;TZID=America/Detroit:20230713T213000
DTSTAMP:20260421T100212
CREATED:20230601T145716Z
LAST-MODIFIED:20230629T191746Z
UID:1393-1689273000-1689283800@fishbonesusa.com
SUMMARY:Melody Balos Duo
DESCRIPTION:The Balos Duo is an up-and-coming brother/sister act consisting of Melody and Matt Balos. They have been performing together since they were young\, starting out with ensembles such as the Manny Balos Big Band\, and they bring a mix of jazz and contemporary repertoire to the stage. Melody won the Detroit Jazz Festival Youth Vocalist Competition in 2017\, and has performed at the festival for several years\, along with her brother.
URL:https://fishbonesusa.com/rhythm/melody-balos-duo/
LOCATION:FISHBONES EAST\, 23722 Jefferson Ave\, St Clair Shores\, MI\, 48080\, United States
CATEGORIES:RHYTHM
ATTACH;FMTTYPE=image/jpeg:https://fishbonesusa.com/wp-content/uploads/2023/06/Balos-duo.jpg
END:VEVENT
BEGIN:VEVENT
DTSTART;TZID=America/Detroit:20230701T183000
DTEND;TZID=America/Detroit:20230701T213000
DTSTAMP:20260421T100212
CREATED:20230629T190705Z
LAST-MODIFIED:20230629T191538Z
UID:1414-1688236200-1688247000@fishbonesusa.com
SUMMARY:Paul Vornhagen Trio
DESCRIPTION:
URL:https://fishbonesusa.com/rhythm/paul-vornhagen-trio/
LOCATION:FISHBONES EAST\, 23722 Jefferson Ave\, St Clair Shores\, MI\, 48080\, United States
CATEGORIES:RHYTHM
ATTACH;FMTTYPE=image/jpeg:https://fishbonesusa.com/wp-content/uploads/2023/06/vornhagen.jpg
END:VEVENT
BEGIN:VEVENT
DTSTART;TZID=America/Detroit:20230617T183000
DTEND;TZID=America/Detroit:20230617T213000
DTSTAMP:20260421T100212
CREATED:20210325T141123Z
LAST-MODIFIED:20230601T152601Z
UID:361-1687026600-1687037400@fishbonesusa.com
SUMMARY:Tom Dennis Trio
DESCRIPTION:Tom Dennis is a versatile jazz pianist whose style is defined by melodic solo lines and sophisticated reharmonizations of familiar melodies. His taste in composers ranges from Gershwin to Bacharach. Tom is Professor of Music at Oakland Community College\, he currently performs as a solo pianist\, a sideman to some of Detroit’s finest vocalists\, and as the pianist in Detroit’s own traditional swing band\, the Rhythm Society Orchestra.
URL:https://fishbonesusa.com/rhythm/tom-dennis-trio/
LOCATION:FISHBONES EAST\, 23722 Jefferson Ave\, St Clair Shores\, MI\, 48080\, United States
CATEGORIES:RHYTHM
ATTACH;FMTTYPE=image/jpeg:https://fishbonesusa.com/wp-content/uploads/2021/03/paul-king-trio.jpg
END:VEVENT
BEGIN:VEVENT
DTSTART;TZID=America/Detroit:20230608T193000
DTEND;TZID=America/Detroit:20230609T223000
DTSTAMP:20260421T100212
CREATED:20211221T182830Z
LAST-MODIFIED:20230629T190738Z
UID:624-1686252600-1686349800@fishbonesusa.com
SUMMARY:Olivia Van Goor Trio
DESCRIPTION:Olivia is a young performer with an old soul influenced by swing and bebop jazz from the mid-20th century. Music is undeniably a part of her identity\, her voice being the instrument she communicates with. She draws from the Great American Songbook and other jazz standards in a way that is beyond replicating what has already been done before. Each and every performance and recording exemplifies a rich understanding and musicality that is uniquely her own while still paying tribute to jazz tradition and the ones who created it.
URL:https://fishbonesusa.com/rhythm/william-bennett-with-olivia-van-goor/
LOCATION:FISHBONES EAST\, 23722 Jefferson Ave\, St Clair Shores\, MI\, 48080\, United States
CATEGORIES:RHYTHM
ATTACH;FMTTYPE=image/jpeg:https://fishbonesusa.com/wp-content/uploads/2021/12/OVG.jpg
END:VEVENT
BEGIN:VEVENT
DTSTART;TZID=America/Detroit:20230603T193000
DTEND;TZID=America/Detroit:20230603T223000
DTSTAMP:20260421T100212
CREATED:20210726T195154Z
LAST-MODIFIED:20230425T160938Z
UID:505-1685820600-1685831400@fishbonesusa.com
SUMMARY:Paul King Trio
DESCRIPTION:Influenced heavily by the great jazz\, swing and soul crooners\, Paul King has created a classic sound of his own. Known for his smooth tone and sophisticated style\, Paul and his band have a gift for making your evening special. His interesting song choices and wonderful vocal phrasing have been making dancers\, jazz heads and casual listeners happy for decades.
URL:https://fishbonesusa.com/rhythm/paul-king/
LOCATION:FISHBONES EAST\, 23722 Jefferson Ave\, St Clair Shores\, MI\, 48080\, United States
CATEGORIES:RHYTHM
ATTACH;FMTTYPE=image/jpeg:https://fishbonesusa.com/wp-content/uploads/2021/07/paul-king.jpg
END:VEVENT
BEGIN:VEVENT
DTSTART;TZID=America/Detroit:20230601T193000
DTEND;TZID=America/Detroit:20230601T223000
DTSTAMP:20260421T100212
CREATED:20230530T190327Z
LAST-MODIFIED:20230601T150137Z
UID:1383-1685647800-1685658600@fishbonesusa.com
SUMMARY:Brett Lucas & Tosha Owens Duo
DESCRIPTION:With her marvelous mix of Blues\, Rock\, Funk and R&B\, Detroit singer Tosha Owens has the word ‘ performer ’ written all over her. Often compared to artists such as Gladys Knight\, Etta James\, Chaka Khan and Janis Joplin\, Tosha delivers a unique sound and performance that no other Detroit singer can provide. In addition to her legendary live performances\, Tosha Owens is also a highly sought after recording session vocalist. She can be heard on many tracks of local and national artists such as Vinnie Dombrowski of (Sponge)\, Paul Hill and Michael Hampton of (Parliament Funkadelic)\, Barrett Strong (Motown Song Writer). Her first complete album titled “Wrong Side of Right\,” was released in April 2018\, followed by “Right Side of Love.” Tosha is also the winner of 26 Detroit Music Awards. Brett Lucas is an award-winning guitarist\, singer-songwriter\, and producer\, who started his career at a young age performing in Detroit’s blues scene. As a guitarist\, Brett has played alongside some of Detroit’s finest blues artists\, including Thornetta Davis\, Tosha Owens\, Johnnie Bassett\, and as the guitarist and musical director for international soul legend Bettye LaVette.He has written and released four studio albums\, the most recent of which\, Soul and Courage\, won the 2020 Detroit Music Award for Outstanding Blues Recording. He is the winner of six Detroit Music Awards. Brett has also produced albums for Jeremy Spencer of Fleetwood Mac fame\, Tosha Owens\, and others.From international festivals to late night talk shows\, Brett has played on stages across the world\, including the prestigious Montreux Jazz Festival in Switzerland\, Byron Bay Blues Festival in Australia\, Carnegie Hall and on many television appearances\, including Late Night with David Letterman\, The Tonight Show with Jay Leno\, Austin City Limits\, and others
URL:https://fishbonesusa.com/rhythm/tosha-brett/
LOCATION:FISHBONES EAST\, 23722 Jefferson Ave\, St Clair Shores\, MI\, 48080\, United States
CATEGORIES:RHYTHM
ATTACH;FMTTYPE=image/jpeg:https://fishbonesusa.com/wp-content/uploads/2023/05/Tosha_Brett.jpg
END:VEVENT
BEGIN:VEVENT
DTSTART;TZID=America/Detroit:20230520T190000
DTEND;TZID=America/Detroit:20230520T213000
DTSTAMP:20260421T100212
CREATED:20210310T142656Z
LAST-MODIFIED:20230425T160656Z
UID:307-1684609200-1684618200@fishbonesusa.com
SUMMARY:Liz Smith Trio
DESCRIPTION:
URL:https://fishbonesusa.com/rhythm/liz-smith/
LOCATION:FISHBONES EAST\, 23722 Jefferson Ave\, St Clair Shores\, MI\, 48080\, United States
CATEGORIES:RHYTHM
ATTACH;FMTTYPE=image/jpeg:https://fishbonesusa.com/wp-content/uploads/2021/03/liz-Smith.jpg
END:VEVENT
BEGIN:VEVENT
DTSTART;TZID=America/Detroit:20230506T193000
DTEND;TZID=America/Detroit:20230506T223000
DTSTAMP:20260421T100212
CREATED:20210427T141249Z
LAST-MODIFIED:20230505T170155Z
UID:399-1683401400-1683412200@fishbonesusa.com
SUMMARY:Brett Lucas Trio
DESCRIPTION:
URL:https://fishbonesusa.com/rhythm/brett-lucas-2/
LOCATION:FISHBONES EAST\, 23722 Jefferson Ave\, St Clair Shores\, MI\, 48080\, United States
CATEGORIES:RHYTHM
ATTACH;FMTTYPE=image/jpeg:https://fishbonesusa.com/wp-content/uploads/2021/04/brett.jpg
END:VEVENT
BEGIN:VEVENT
DTSTART;TZID=America/Detroit:20230415T193000
DTEND;TZID=America/Detroit:20230415T223000
DTSTAMP:20260421T100212
CREATED:20220909T135033Z
LAST-MODIFIED:20230329T173021Z
UID:1182-1681587000-1681597800@fishbonesusa.com
SUMMARY:Fred Scott Trio
DESCRIPTION:
URL:https://fishbonesusa.com/rhythm/fred-scott-trio/
LOCATION:FISHBONES EAST\, 23722 Jefferson Ave\, St Clair Shores\, MI\, 48080\, United States
CATEGORIES:RHYTHM
ATTACH;FMTTYPE=image/jpeg:https://fishbonesusa.com/wp-content/uploads/2022/09/fred_scott.jpg
END:VEVENT
BEGIN:VEVENT
DTSTART;TZID=America/Detroit:20230221T193000
DTEND;TZID=America/Detroit:20230221T223000
DTSTAMP:20260421T100212
CREATED:20230131T220535Z
LAST-MODIFIED:20230131T220928Z
UID:1321-1677007800-1677018600@fishbonesusa.com
SUMMARY:Bobby Murray
DESCRIPTION:Blues guitarist\, bandleader\, songwriter and producer Bobby Murray played with the late\, great Etta James for twenty two years. Bobby has performed on three Grammy winning recordings – two w/Etta and one w/B.B. King. Most recently\, Murray was awarded the Detroit Blues Society’s prestigious Lifetime Achievement Award and voted Outstanding Blues/R&B Instrumentalist by Detroit Music Awards.
URL:https://fishbonesusa.com/rhythm/bobby-murray/
LOCATION:FISHBONES GREEKTOWN\, 400 Monroe St.\, Detroit\, MI\, 48226\, United States
CATEGORIES:RHYTHM
ATTACH;FMTTYPE=image/jpeg:https://fishbonesusa.com/wp-content/uploads/2023/01/bobby-murray.jpg
END:VEVENT
BEGIN:VEVENT
DTSTART;TZID=America/Detroit:20230131T190000
DTEND;TZID=America/Detroit:20230131T230000
DTSTAMP:20260421T100212
CREATED:20220317T160543Z
LAST-MODIFIED:20250102T211726Z
UID:1108-1675191600-1675206000@fishbonesusa.com
SUMMARY:Chris Codish Trio
DESCRIPTION:Keyboard specialist Chris Codish has steadily made himself a vital part of the Detroit musical community. A perennial winner at the Detroit Music Awards over the past fourteen years\, he has received multiple honors for his vocal and songwriting skills as well as his keyboard mastery. He formed the multi award winning funk/jazz/jam band The Brothers Groove\, produced the last two albums for the late\, great Detroit bluesman Johnnie Bassett on Sly Dog Records (Mack Ave. Records)\, and toured globally with Hiram Bullock\, Harvey Mason\, Alexander Zonjic\, Larry McCray and Lucky Peterson. He’s performed and/or recorded with Don Was\, Roy Ayers\, Ronnie Laws\, Jim “Moose” Brown\, Sponge\, The Motor City Horns\, The Dead String Brothers\, Kenny Tudrick\, Dave McMurray\, Thornetta Davis\, Kenny G\, Bob James\, Jeff Lorber\, and countless others. When not on tour\, Chris performs on piano\, organ and keyboard throughout the Metro Detroit area\, as well as at God Land Unity Church in Detroit every Sunday morning.
URL:https://fishbonesusa.com/rhythm/codish-trio/
LOCATION:FISHBONES GREEKTOWN\, 400 Monroe St.\, Detroit\, MI\, 48226\, United States
CATEGORIES:RHYTHM
ATTACH;FMTTYPE=image/jpeg:https://fishbonesusa.com/wp-content/uploads/2022/03/CCtrio.jpg
END:VEVENT
BEGIN:VEVENT
DTSTART;TZID=America/Detroit:20221027T193000
DTEND;TZID=America/Detroit:20221027T223000
DTSTAMP:20260421T100212
CREATED:20220203T193019Z
LAST-MODIFIED:20220927T184203Z
UID:659-1666899000-1666909800@fishbonesusa.com
SUMMARY:Chris Plansker
DESCRIPTION:
URL:https://fishbonesusa.com/rhythm/chris-plansker/
LOCATION:FISHBONES EAST\, 23722 Jefferson Ave\, St Clair Shores\, MI\, 48080\, United States
CATEGORIES:RHYTHM
ATTACH;FMTTYPE=image/jpeg:https://fishbonesusa.com/wp-content/uploads/2022/02/chris-plansker-solo.jpg
END:VEVENT
BEGIN:VEVENT
DTSTART;TZID=America/Detroit:20221015T193000
DTEND;TZID=America/Detroit:20221015T223000
DTSTAMP:20260421T100212
CREATED:20210628T172433Z
LAST-MODIFIED:20220927T183908Z
UID:496-1665862200-1665873000@fishbonesusa.com
SUMMARY:Brett Lucas Trio
DESCRIPTION:
URL:https://fishbonesusa.com/rhythm/brett-lucas-3/
LOCATION:FISHBONES WEST\, 29244 Northwestern Hwy\, Southfield\, MI\, 48034\, United States
CATEGORIES:RHYTHM
ATTACH;FMTTYPE=image/jpeg:https://fishbonesusa.com/wp-content/uploads/2021/06/bret-lucas-21.jpg
END:VEVENT
BEGIN:VEVENT
DTSTART;TZID=America/Detroit:20220702T193000
DTEND;TZID=America/Detroit:20220702T223000
DTSTAMP:20260421T100212
CREATED:20210628T172509Z
LAST-MODIFIED:20220711T185238Z
UID:498-1656790200-1656801000@fishbonesusa.com
SUMMARY:Caravan Gypsy
DESCRIPTION:
URL:https://fishbonesusa.com/rhythm/caravan-gypsy/
LOCATION:FISHBONES EAST\, 23722 Jefferson Ave\, St Clair Shores\, MI\, 48080\, United States
CATEGORIES:RHYTHM
ATTACH;FMTTYPE=image/jpeg:https://fishbonesusa.com/wp-content/uploads/2021/06/Caravan-Gypsy.jpg
END:VEVENT
BEGIN:VEVENT
DTSTART;TZID=America/Detroit:20220526T193000
DTEND;TZID=America/Detroit:20220526T223000
DTSTAMP:20260421T100212
CREATED:20210325T141607Z
LAST-MODIFIED:20220526T172749Z
UID:372-1653593400-1653604200@fishbonesusa.com
SUMMARY:Chris Plansker Trio
DESCRIPTION:
URL:https://fishbonesusa.com/rhythm/chris-plansker-trio/
LOCATION:FISHBONES EAST\, 23722 Jefferson Ave\, St Clair Shores\, MI\, 48080\, United States
CATEGORIES:RHYTHM
ATTACH;FMTTYPE=image/jpeg:https://fishbonesusa.com/wp-content/uploads/2021/03/Chris-Plansker-trio.jpg
END:VEVENT
BEGIN:VEVENT
DTSTART;TZID=America/Detroit:20220416T193000
DTEND;TZID=America/Detroit:20220416T223000
DTSTAMP:20260421T100212
CREATED:20210914T143318Z
LAST-MODIFIED:20220331T152918Z
UID:541-1650137400-1650148200@fishbonesusa.com
SUMMARY:Dave Vessella
DESCRIPTION:
URL:https://fishbonesusa.com/rhythm/dave-vessella/
LOCATION:FISHBONES WEST\, 29244 Northwestern Hwy\, Southfield\, MI\, 48034\, United States
CATEGORIES:RHYTHM
ATTACH;FMTTYPE=image/jpeg:https://fishbonesusa.com/wp-content/uploads/2021/09/dave-vessella.jpg
END:VEVENT
BEGIN:VEVENT
DTSTART;TZID=America/Detroit:20220305T193000
DTEND;TZID=America/Detroit:20220305T223000
DTSTAMP:20260421T100212
CREATED:20220113T152656Z
LAST-MODIFIED:20220301T144833Z
UID:641-1646508600-1646519400@fishbonesusa.com
SUMMARY:Theo Spight
DESCRIPTION:Theo Gridiron Spight is a singer born and raised in Detroit\, MI. Raised in the church from birth\, Theo developed his brand of soul-stirring\, gospel influenced\, pure Detroit soul from an early age. A blue-collar worker by day\, with over 20 years at one of The Big 3\, he brings that going to work attitude to every performance. Theo is a cross between baptist minister meets blues-edged rocker!! Whether he’s singing blues\, soul\, r&b\, jazz or rock\, Theo brings a passion to the stage like few others can!
URL:https://fishbonesusa.com/rhythm/theospight/
LOCATION:FISHBONES EAST\, 23722 Jefferson Ave\, St Clair Shores\, MI\, 48080\, United States
CATEGORIES:RHYTHM
ATTACH;FMTTYPE=image/jpeg:https://fishbonesusa.com/wp-content/uploads/2022/01/theospight.jpg
END:VEVENT
BEGIN:VEVENT
DTSTART;TZID=America/Detroit:20220226T193000
DTEND;TZID=America/Detroit:20220226T223000
DTSTAMP:20260421T100212
CREATED:20220203T192424Z
LAST-MODIFIED:20220203T192432Z
UID:655-1645903800-1645914600@fishbonesusa.com
SUMMARY:Tom Dennis
DESCRIPTION:
URL:https://fishbonesusa.com/rhythm/tom-dennis-trio-2/
LOCATION:FISHBONES EAST\, 23722 Jefferson Ave\, St Clair Shores\, MI\, 48080\, United States
CATEGORIES:RHYTHM
ATTACH;FMTTYPE=image/jpeg:https://fishbonesusa.com/wp-content/uploads/2022/02/tom-dennis.jpg
END:VEVENT
BEGIN:VEVENT
DTSTART;TZID=America/Detroit:20220219T193000
DTEND;TZID=America/Detroit:20220219T223000
DTSTAMP:20260421T100212
CREATED:20210914T142521Z
LAST-MODIFIED:20220203T191745Z
UID:538-1645299000-1645309800@fishbonesusa.com
SUMMARY:Bobby McManus
DESCRIPTION:
URL:https://fishbonesusa.com/rhythm/bobby-mcmanus-trio/
LOCATION:FISHBONES WEST\, 29244 Northwestern Hwy\, Southfield\, MI\, 48034\, United States
CATEGORIES:RHYTHM
ATTACH;FMTTYPE=image/jpeg:https://fishbonesusa.com/wp-content/uploads/2021/09/Bobby-McManus.jpg
END:VEVENT
END:VCALENDAR